{
 "currentVersion": 11.4,
 "serviceDescription": "Airphoto200035cm",
 "name": "Airphoto200035cm",
 "description": "",
 "extent": {
  "xmin": 533996.75,
  "ymin": 4823327.95,
  "xmax": 564012.05,
  "ymax": 4856673.15,
  "spatialReference": {
   "wkid": 26917,
   "latestWkid": 26917,
   "vcsWkid": 5773,
   "latestVcsWkid": 5773
  }
 },
 "initialExtent": {
  "xmin": 533996.75,
  "ymin": 4823327.95,
  "xmax": 564012.05,
  "ymax": 4856673.15,
  "spatialReference": {
   "wkid": 26917,
   "latestWkid": 26917,
   "vcsWkid": 5773,
   "latestVcsWkid": 5773
  }
 },
 "fullExtent": {
  "xmin": 533996.75,
  "ymin": 4823327.95,
  "xmax": 564012.05,
  "ymax": 4856673.15,
  "spatialReference": {
   "wkid": 26917,
   "latestWkid": 26917,
   "vcsWkid": 5773,
   "latestVcsWkid": 5773
  }
 },
 "sortableFields": "",
 "heightModelInfo": {
  "heightModel": "gravity_related_height",
  "vertCRS": "EGM96_Geoid",
  "heightUnit": "meter"
 },
 "bandCount": 1,
 "pixelType": "U8",
 "minValues": [
  0
 ],
 "maxValues": [
  245
 ],
 "meanValues": [
  90.178792365251
 ],
 "stdvValues": [
  72.122780916905
 ],
 "hasMultidimensions": false,
 "pixelSizeX": 0.35000000000000053,
 "pixelSizeY": 0.350000000000002,
 "meanPixelSize": 0.35000000000000125,
 "datasetFormat": "MrSID",
 "uncompressedSize": 8170336176,
 "blockWidth": 1024,
 "blockHeight": 128,
 "compressionType": "Wavelet (MG2)",
 "bandNames": [
  "Band_1"
 ],
 "allowCopy": true,
 "allowAnalysis": true,
 "itemAccess": false,
 "inspectionCapabilities": "",
 "minPixelSize": 0,
 "maxPixelSize": 0,
 "copyrightText": "",
 "serviceDataType": "esriImageServiceDataTypeGeneric",
 "serviceSourceType": "esriImageServiceSourceTypeDataset",
 "objectIdField": "",
 "fields": [],
 "capabilities": "Image,Metadata,Mensuration",
 "defaultMosaicMethod": "Center",
 "allowedMosaicMethods": "",
 "sortField": "",
 "sortValue": null,
 "sortAscending": true,
 "mosaicOperator": "First",
 "defaultCompressionQuality": 75,
 "defaultResamplingMethod": "Bilinear",
 "maxImageHeight": 4100,
 "maxImageWidth": 15000,
 "allowRasterFunction": true,
 "rasterFunctionInfos": [
  {
   "name": "None",
   "description": "",
   "help": ""
  }
 ],
 "rasterTypeInfos": [
  {
   "name": "Raster Dataset",
   "description": "Supports all ArcGIS Raster Datasets",
   "help": ""
  }
 ],
 "mensurationCapabilities": "Basic",
 "hasHistograms": true,
 "hasColormap": false,
 "hasRasterAttributeTable": true,
 "minScale": 0,
 "maxScale": 0,
 "exportTilesAllowed": false,
 "supportsStatistics": false,
 "supportsAdvancedQueries": false,
 "editFieldsInfo": null,
 "ownershipBasedAccessControlForRasters": null,
 "allowComputeTiePoints": false,
 "useStandardizedQueries": true,
 "advancedQueryCapabilities": {
  "useStandardizedQueries": true,
  "supportsStatistics": false,
  "supportsOrderBy": false,
  "supportsDistinct": false,
  "supportsPagination": false
 },
 "spatialReference": {
  "wkid": 26917,
  "latestWkid": 26917,
  "vcsWkid": 5773,
  "latestVcsWkid": 5773
 }
}
