{
 "currentVersion": 11.4,
 "serviceDescription": "Airphoto201020cm_dynamic",
 "name": "Airphoto201020cm_dynamic",
 "description": "",
 "extent": {
  "xmin": 534999.9322771635,
  "ymin": 4824999.942936342,
  "xmax": 562999.9322771635,
  "ymax": 4856999.942936342,
  "spatialReference": {
   "wkid": 26917,
   "latestWkid": 26917
  }
 },
 "initialExtent": {
  "xmin": 534999.9322771635,
  "ymin": 4824999.942936342,
  "xmax": 562999.9322771635,
  "ymax": 4856999.942936342,
  "spatialReference": {
   "wkid": 26917,
   "latestWkid": 26917
  }
 },
 "fullExtent": {
  "xmin": 534999.9322771635,
  "ymin": 4824999.942936342,
  "xmax": 562999.9322771635,
  "ymax": 4856999.942936342,
  "spatialReference": {
   "wkid": 26917,
   "latestWkid": 26917
  }
 },
 "sortableFields": "",
 "bandCount": 2,
 "pixelType": "U8",
 "minValues": [
  0,
  0
 ],
 "maxValues": [
  255,
  255
 ],
 "meanValues": [
  116.23978243042373,
  110.13618710347458
 ],
 "stdvValues": [
  47.83062398853443,
  39.422026888399834
 ],
 "hasMultidimensions": false,
 "pixelSizeX": 0.2,
 "pixelSizeY": 0.2,
 "meanPixelSize": 0.2,
 "datasetFormat": "FGDBR",
 "uncompressedSize": 44800000000,
 "blockWidth": 128,
 "blockHeight": 128,
 "compressionType": "LZ77",
 "bandNames": [
  "Band_1",
  "Band_2"
 ],
 "allowCopy": true,
 "allowAnalysis": true,
 "itemAccess": false,
 "inspectionCapabilities": "",
 "minPixelSize": 0,
 "maxPixelSize": 0,
 "copyrightText": "",
 "serviceDataType": "esriImageServiceDataTypeGeneric",
 "serviceSourceType": "esriImageServiceSourceTypeDataset",
 "objectIdField": "",
 "fields": [],
 "capabilities": "Image,Metadata,Mensuration",
 "defaultMosaicMethod": "Center",
 "allowedMosaicMethods": "",
 "sortField": "",
 "sortValue": null,
 "sortAscending": true,
 "mosaicOperator": "First",
 "defaultCompressionQuality": 75,
 "defaultResamplingMethod": "Bilinear",
 "maxImageHeight": 4100,
 "maxImageWidth": 15000,
 "allowRasterFunction": true,
 "rasterFunctionInfos": [
  {
   "name": "None",
   "description": "",
   "help": ""
  }
 ],
 "rasterTypeInfos": [
  {
   "name": "Raster Dataset",
   "description": "Supports all ArcGIS Raster Datasets",
   "help": ""
  }
 ],
 "mensurationCapabilities": "Basic",
 "hasHistograms": true,
 "hasColormap": false,
 "hasRasterAttributeTable": false,
 "minScale": 0,
 "maxScale": 0,
 "exportTilesAllowed": false,
 "supportsStatistics": false,
 "supportsAdvancedQueries": false,
 "editFieldsInfo": null,
 "ownershipBasedAccessControlForRasters": null,
 "allowComputeTiePoints": false,
 "useStandardizedQueries": true,
 "advancedQueryCapabilities": {
  "useStandardizedQueries": true,
  "supportsStatistics": false,
  "supportsOrderBy": false,
  "supportsDistinct": false,
  "supportsPagination": false
 },
 "spatialReference": {
  "wkid": 26917,
  "latestWkid": 26917
 }
}
