{
 "currentVersion": 11.4,
 "serviceDescription": "Airphoto2023_7cm",
 "name": "Airphoto2023_7cm",
 "description": "",
 "extent": {
  "xmin": 534998.9817383003,
  "ymin": 4824999.024062004,
  "xmax": 563000.9817383003,
  "ymax": 4857001.074061994,
  "spatialReference": {
   "wkid": 26917,
   "latestWkid": 26917
  }
 },
 "initialExtent": {
  "xmin": 534998.9817383003,
  "ymin": 4824999.024062004,
  "xmax": 563000.9817383003,
  "ymax": 4857001.074061994,
  "spatialReference": {
   "wkid": 26917,
   "latestWkid": 26917
  }
 },
 "fullExtent": {
  "xmin": 534998.9817383003,
  "ymin": 4824999.024062004,
  "xmax": 563000.9817383003,
  "ymax": 4857001.074061994,
  "spatialReference": {
   "wkid": 26917,
   "latestWkid": 26917
  }
 },
 "sortableFields": "",
 "bandCount": 3,
 "pixelType": "U8",
 "minValues": [
  0,
  0,
  0
 ],
 "maxValues": [
  255,
  255,
  255
 ],
 "meanValues": [
  102.07572342237869,
  104.15142044289827,
  95.01262267168597
 ],
 "stdvValues": [
  37.614967565862905,
  33.95476101022875,
  30.468096252460946
 ],
 "hasMultidimensions": false,
 "pixelSizeX": 0.075,
 "pixelSizeY": 0.07499999999997774,
 "meanPixelSize": 0.07499999999998887,
 "datasetFormat": "FGDBR",
 "uncompressedSize": 477931415520,
 "blockWidth": 128,
 "blockHeight": 128,
 "compressionType": "JPEG",
 "bandNames": [
  "Band_1",
  "Band_2",
  "Band_3"
 ],
 "allowCopy": true,
 "allowAnalysis": true,
 "itemAccess": false,
 "inspectionCapabilities": "",
 "minPixelSize": 0,
 "maxPixelSize": 0,
 "copyrightText": "",
 "serviceDataType": "esriImageServiceDataTypeRGB",
 "serviceSourceType": "esriImageServiceSourceTypeDataset",
 "objectIdField": "",
 "fields": [],
 "capabilities": "Mensuration,Image,Metadata",
 "defaultMosaicMethod": "Center",
 "allowedMosaicMethods": "",
 "sortField": "",
 "sortValue": null,
 "sortAscending": true,
 "mosaicOperator": "First",
 "defaultCompressionQuality": 75,
 "defaultResamplingMethod": "Bilinear",
 "maxImageHeight": 4100,
 "maxImageWidth": 15000,
 "singleFusedMapCache": true,
 "tileInfo": {
  "rows": 256,
  "cols": 256,
  "dpi": 96,
  "format": "PNG",
  "compressionQuality": 0,
  "origin": {
   "x": 531305.6817383,
   "y": 4859128.749062
  },
  "spatialReference": {
   "wkid": 26917,
   "latestWkid": 26917
  },
  "lods": [
   {
    "level": 0,
    "resolution": 79.37515875031751,
    "scale": 300000
   },
   {
    "level": 1,
    "resolution": 52.91677250021167,
    "scale": 200000
   },
   {
    "level": 2,
    "resolution": 31.750063500127002,
    "scale": 120000
   },
   {
    "level": 3,
    "resolution": 23.812547625095252,
    "scale": 90000
   },
   {
    "level": 4,
    "resolution": 15.875031750063501,
    "scale": 60000
   },
   {
    "level": 5,
    "resolution": 7.9375158750317505,
    "scale": 30000
   },
   {
    "level": 6,
    "resolution": 3.9687579375158752,
    "scale": 15000
   },
   {
    "level": 7,
    "resolution": 2.116670900008467,
    "scale": 8000
   },
   {
    "level": 8,
    "resolution": 1.0583354500042335,
    "scale": 4000
   },
   {
    "level": 9,
    "resolution": 0.5291677250021167,
    "scale": 2000
   },
   {
    "level": 10,
    "resolution": 0.26458386250105836,
    "scale": 1000
   },
   {
    "level": 11,
    "resolution": 0.13229193125052918,
    "scale": 500
   },
   {
    "level": 12,
    "resolution": 0.06614596562526459,
    "scale": 250
   },
   {
    "level": 13,
    "resolution": 0.026458386250105836,
    "scale": 100
   }
  ]
 },
 "storageInfo": {
  "storageFormat": "esriMapCacheStorageModeCompactV2",
  "packetSize": 128
 },
 "cacheType": "Map",
 "allowRasterFunction": true,
 "rasterFunctionInfos": [
  {
   "name": "None",
   "description": "",
   "help": ""
  }
 ],
 "rasterTypeInfos": [
  {
   "name": "Raster Dataset",
   "description": "Supports all ArcGIS Raster Datasets",
   "help": ""
  }
 ],
 "mensurationCapabilities": "Basic",
 "hasHistograms": true,
 "hasColormap": false,
 "hasRasterAttributeTable": false,
 "minScale": 0,
 "maxScale": 0,
 "minLOD": 0,
 "maxLOD": 13,
 "exportTilesAllowed": true,
 "maxExportTilesCount": 100000,
 "supportsStatistics": false,
 "supportsAdvancedQueries": false,
 "editFieldsInfo": null,
 "ownershipBasedAccessControlForRasters": null,
 "allowComputeTiePoints": false,
 "useStandardizedQueries": true,
 "advancedQueryCapabilities": {
  "useStandardizedQueries": true,
  "supportsStatistics": false,
  "supportsOrderBy": false,
  "supportsDistinct": false,
  "supportsPagination": false
 },
 "spatialReference": {
  "wkid": 26917,
  "latestWkid": 26917
 },
 "resampling": false
}
