{
 "currentVersion": 11.4,
 "serviceDescription": "DSM_LIDAR_Hillshade",
 "name": "DSM_LIDAR_Hillshade",
 "description": "",
 "extent": {
  "xmin": 535000.232277,
  "ymin": 4824999.942936,
  "xmax": 564000.232277,
  "ymax": 4856999.942936,
  "spatialReference": {
   "wkid": 26917,
   "latestWkid": 26917,
   "vcsWkid": 115702,
   "latestVcsWkid": 115702
  }
 },
 "initialExtent": {
  "xmin": 535000.232277,
  "ymin": 4824999.942936,
  "xmax": 564000.232277,
  "ymax": 4856999.942936,
  "spatialReference": {
   "wkid": 26917,
   "latestWkid": 26917,
   "vcsWkid": 115702,
   "latestVcsWkid": 115702
  }
 },
 "fullExtent": {
  "xmin": 535000.232277,
  "ymin": 4824999.942936,
  "xmax": 564000.232277,
  "ymax": 4856999.942936,
  "spatialReference": {
   "wkid": 26917,
   "latestWkid": 26917,
   "vcsWkid": 115702,
   "latestVcsWkid": 115702
  }
 },
 "sortableFields": "",
 "heightModelInfo": {
  "heightModel": "ellipsoidal",
  "vertCRS": "NAD_1983",
  "heightUnit": "meter"
 },
 "bandCount": 1,
 "pixelType": "U8",
 "minValues": [
  0
 ],
 "maxValues": [
  254
 ],
 "meanValues": [
  160.81816649631648
 ],
 "stdvValues": [
  54.41331136690318
 ],
 "hasMultidimensions": false,
 "pixelSizeX": 0.5,
 "pixelSizeY": 0.5,
 "meanPixelSize": 0.5,
 "datasetFormat": "FGDBR",
 "uncompressedSize": 3712000000,
 "blockWidth": 128,
 "blockHeight": 128,
 "compressionType": "LZ77",
 "bandNames": [
  "Band_1"
 ],
 "allowCopy": true,
 "allowAnalysis": true,
 "itemAccess": false,
 "inspectionCapabilities": "",
 "minPixelSize": 0,
 "maxPixelSize": 0,
 "copyrightText": "",
 "serviceDataType": "esriImageServiceDataTypeGeneric",
 "serviceSourceType": "esriImageServiceSourceTypeDataset",
 "objectIdField": "",
 "fields": [],
 "capabilities": "Image,Metadata,Mensuration",
 "defaultMosaicMethod": "Center",
 "allowedMosaicMethods": "",
 "sortField": "",
 "sortValue": null,
 "sortAscending": true,
 "mosaicOperator": "First",
 "defaultCompressionQuality": 75,
 "defaultResamplingMethod": "Bilinear",
 "maxImageHeight": 4100,
 "maxImageWidth": 15000,
 "allowRasterFunction": true,
 "rasterFunctionInfos": [
  {
   "name": "None",
   "description": "",
   "help": ""
  }
 ],
 "rasterTypeInfos": [
  {
   "name": "Raster Dataset",
   "description": "Supports all ArcGIS Raster Datasets",
   "help": ""
  }
 ],
 "mensurationCapabilities": "Basic",
 "hasHistograms": true,
 "hasColormap": false,
 "hasRasterAttributeTable": true,
 "minScale": 0,
 "maxScale": 0,
 "exportTilesAllowed": false,
 "supportsStatistics": false,
 "supportsAdvancedQueries": false,
 "editFieldsInfo": null,
 "ownershipBasedAccessControlForRasters": null,
 "allowComputeTiePoints": false,
 "useStandardizedQueries": true,
 "advancedQueryCapabilities": {
  "useStandardizedQueries": true,
  "supportsStatistics": false,
  "supportsOrderBy": false,
  "supportsDistinct": false,
  "supportsPagination": false
 },
 "spatialReference": {
  "wkid": 26917,
  "latestWkid": 26917,
  "vcsWkid": 115702,
  "latestVcsWkid": 115702
 }
}
