View In:
ArcGIS JavaScript
ArcGIS Online Map Viewer
ArcGIS Earth
Service Description: Airphoto202016cm
Name: Airphoto202016cm
Description:
Single Fused Map Cache: true
Tile Info:
- Height: 256
- Width: 256
- DPI: 96
-
Levels of Detail: 15
- Format: MIXED
- Compression Quality: 80.0
- LERC Error: NaN
- Origin: X: 531305.6817383
Y: 4859128.749062
- Spatial Reference: 26917
(26917)
LatestVCSWkid(0)
Storage Info:
- Storage Format: esriMapCacheStorageModeCompactV2
- Packet Size: 128
Extent:
XMin: 531999.9375417093
YMin: 4822999.938116781
XMax: 566999.9375743056
YMax: 4858999.938150309
Spatial Reference: 26917
(26917)
LatestVCSWkid(0)
Initial Extent:
XMin: 531999.9375417093
YMin: 4822999.938116781
XMax: 566999.9375743056
YMax: 4858999.938150309
Spatial Reference: 26917
(26917)
LatestVCSWkid(0)
Full Extent:
XMin: 531999.9375417093
YMin: 4822999.938116781
XMax: 566999.9375743056
YMax: 4858999.938150309
Spatial Reference: 26917
(26917)
LatestVCSWkid(0)
Pixel Size X: 0.1600000001490116
Pixel Size Y: 0.1600000001490116
Band Count: 4
Pixel Type: U8
RasterFunction Infos: {"rasterFunctionInfos": [{
"name": "None",
"description": "",
"help": ""
}]}
Mensuration Capabilities: Basic
Inspection Capabilities:
Has Histograms: true
Has Colormap: false
Has Multi Dimensions : false
Rendering Rule:
Min Scale: 300000
Max Scale: 100
Copyright Text:
Service Data Type: esriImageServiceDataTypeGeneric
Min Values: 0, 1, 4, 0
Max Values: 255, 255, 255, 255
Mean Values: 109.10655403778348, 117.26258864929663, 112.9031654297052, 124.10272616576391
Standard Deviation Values: 37.0786078615034, 31.123766158974675, 27.95999703604514, 29.80302768959573
Object ID Field:
Fields:
None
Default Mosaic Method: Center
Allowed Mosaic Methods:
SortField:
SortValue: null
Mosaic Operator: First
Default Compression Quality: 75
Default Resampling Method: Bilinear
Max Record Count: null
Max Image Height: 4100
Max Image Width: 15000
Max Download Image Count: null
Max Mosaic Image Count: null
Allow Raster Function: true
Allow Copy: true
Allow Analysis: true
Allow Compute TiePoints: false
Supports Statistics: false
Supports Advanced Queries: false
Use StandardizedQueries: true
Raster Type Infos:
Name: Raster Dataset
Description: Supports all ArcGIS Raster Datasets
Help:
Has Raster Attribute Table: false
Edit Fields Info: null
Ownership Based AccessControl For Rasters: null
Child Resources:
Info
Histograms
Statistics
Key Properties
Legend
Raster Function Infos
Supported Operations:
Export Image
Identify
Measure
Compute Histograms
Compute Statistics Histograms
Get Samples
Compute Class Statistics
Query Boundary
Compute Pixel Location
Compute Angles
Validate
Project