View In:
ArcGIS JavaScript
ArcGIS Online Map Viewer
ArcGIS Earth
Service Description: DTM_LIDAR_2018
Name: DTM_LIDAR_2018
Description:
Single Fused Map Cache: false
Extent:
XMin: 535159.2322771633
YMin: 4825236.942936342
XMax: 563081.7322771633
YMax: 4856754.442936342
Spatial Reference: 26917
(26917)
LatestVCSWkid(0)
Initial Extent:
XMin: 535159.2322771633
YMin: 4825236.942936342
XMax: 563081.7322771633
YMax: 4856754.442936342
Spatial Reference: 26917
(26917)
LatestVCSWkid(0)
Full Extent:
XMin: 535159.2322771633
YMin: 4825236.942936342
XMax: 563081.7322771633
YMax: 4856754.442936342
Spatial Reference: 26917
(26917)
LatestVCSWkid(0)
Pixel Size X: 0.5
Pixel Size Y: 0.5
Band Count: 1
Pixel Type: F32
RasterFunction Infos: {"rasterFunctionInfos": [{
"name": "None",
"description": "",
"help": ""
}]}
Mensuration Capabilities: Basic
Inspection Capabilities:
Has Histograms: true
Has Colormap: false
Has Multi Dimensions : false
Rendering Rule:
Min Scale: 0
Max Scale: 0
Copyright Text:
Service Data Type: esriImageServiceDataTypeGeneric
Min Values: -9999
Max Values: 500.19000244140625
Mean Values: 417.1330753262685
Standard Deviation Values: 43.795254264551986
Object ID Field:
Fields:
None
Default Mosaic Method: Center
Allowed Mosaic Methods:
SortField:
SortValue: null
Mosaic Operator: First
Default Compression Quality: 75
Default Resampling Method: Bilinear
Max Record Count: null
Max Image Height: 4100
Max Image Width: 15000
Max Download Image Count: null
Max Mosaic Image Count: null
Allow Raster Function: true
Allow Copy: true
Allow Analysis: true
Allow Compute TiePoints: false
Supports Statistics: false
Supports Advanced Queries: false
Use StandardizedQueries: true
Raster Type Infos:
Name: Raster Dataset
Description: Supports all ArcGIS Raster Datasets
Help:
Has Raster Attribute Table: false
Edit Fields Info: null
Ownership Based AccessControl For Rasters: null
Child Resources:
Info
Histograms
Statistics
Key Properties
Legend
Raster Function Infos
Supported Operations:
Export Image
Identify
Measure
Compute Histograms
Compute Statistics Histograms
Get Samples
Compute Class Statistics
Query Boundary
Compute Pixel Location
Compute Angles
Validate
Project