View In:
ArcGIS JavaScript
ArcGIS Online Map Viewer
ArcGIS Earth
Service Description: Airphoto200035cm
Name: Airphoto200035cm
Description:
Single Fused Map Cache: false
Extent:
XMin: 533996.75
YMin: 4823327.95
XMax: 564012.05
YMax: 4856673.15
Spatial Reference: 26917
(26917)
VCSWkid(5773)
LatestVCSWkid(5773)
Initial Extent:
XMin: 533996.75
YMin: 4823327.95
XMax: 564012.05
YMax: 4856673.15
Spatial Reference: 26917
(26917)
VCSWkid(5773)
LatestVCSWkid(5773)
Full Extent:
XMin: 533996.75
YMin: 4823327.95
XMax: 564012.05
YMax: 4856673.15
Spatial Reference: 26917
(26917)
VCSWkid(5773)
LatestVCSWkid(5773)
Pixel Size X: 0.35000000000000053
Pixel Size Y: 0.350000000000002
Band Count: 1
Pixel Type: U8
RasterFunction Infos: {"rasterFunctionInfos": [{
"name": "None",
"description": "",
"help": ""
}]}
Mensuration Capabilities: Basic
Inspection Capabilities:
Has Histograms: true
Has Colormap: false
Has Multi Dimensions : false
Rendering Rule:
Min Scale: 0
Max Scale: 0
Copyright Text:
Service Data Type: esriImageServiceDataTypeGeneric
Min Values: 0
Max Values: 245
Mean Values: 90.178792365251
Standard Deviation Values: 72.122780916905
Object ID Field:
Fields:
None
Default Mosaic Method: Center
Allowed Mosaic Methods:
SortField:
SortValue: null
Mosaic Operator: First
Default Compression Quality: 75
Default Resampling Method: Bilinear
Max Record Count: null
Max Image Height: 4100
Max Image Width: 15000
Max Download Image Count: null
Max Mosaic Image Count: null
Allow Raster Function: true
Allow Copy: true
Allow Analysis: true
Allow Compute TiePoints: false
Supports Statistics: false
Supports Advanced Queries: false
Use StandardizedQueries: true
Raster Type Infos:
Name: Raster Dataset
Description: Supports all ArcGIS Raster Datasets
Help:
Has Raster Attribute Table: true
Edit Fields Info: null
Ownership Based AccessControl For Rasters: null
Child Resources:
Info
Raster Attribute Table
Histograms
Statistics
Key Properties
Legend
Raster Function Infos
Supported Operations:
Export Image
Identify
Measure
Compute Histograms
Compute Statistics Histograms
Get Samples
Compute Class Statistics
Query Boundary
Compute Pixel Location
Compute Angles
Validate
Project