View In:
ArcGIS JavaScript
ArcGIS Online Map Viewer
ArcGIS Earth
Service Description: Airphoto201020cm_dynamic
Name: Airphoto201020cm_dynamic
Description:
Single Fused Map Cache: false
Extent:
XMin: 534999.9322771635
YMin: 4824999.942936342
XMax: 562999.9322771635
YMax: 4856999.942936342
Spatial Reference: 26917
(26917)
LatestVCSWkid(0)
Initial Extent:
XMin: 534999.9322771635
YMin: 4824999.942936342
XMax: 562999.9322771635
YMax: 4856999.942936342
Spatial Reference: 26917
(26917)
LatestVCSWkid(0)
Full Extent:
XMin: 534999.9322771635
YMin: 4824999.942936342
XMax: 562999.9322771635
YMax: 4856999.942936342
Spatial Reference: 26917
(26917)
LatestVCSWkid(0)
Pixel Size X: 0.2
Pixel Size Y: 0.2
Band Count: 2
Pixel Type: U8
RasterFunction Infos: {"rasterFunctionInfos": [{
"name": "None",
"description": "",
"help": ""
}]}
Mensuration Capabilities: Basic
Inspection Capabilities:
Has Histograms: true
Has Colormap: false
Has Multi Dimensions : false
Rendering Rule:
Min Scale: 0
Max Scale: 0
Copyright Text:
Service Data Type: esriImageServiceDataTypeGeneric
Min Values: 0, 0
Max Values: 255, 255
Mean Values: 116.23978243042373, 110.13618710347458
Standard Deviation Values: 47.83062398853443, 39.422026888399834
Object ID Field:
Fields:
None
Default Mosaic Method: Center
Allowed Mosaic Methods:
SortField:
SortValue: null
Mosaic Operator: First
Default Compression Quality: 75
Default Resampling Method: Bilinear
Max Record Count: null
Max Image Height: 4100
Max Image Width: 15000
Max Download Image Count: null
Max Mosaic Image Count: null
Allow Raster Function: true
Allow Copy: true
Allow Analysis: true
Allow Compute TiePoints: false
Supports Statistics: false
Supports Advanced Queries: false
Use StandardizedQueries: true
Raster Type Infos:
Name: Raster Dataset
Description: Supports all ArcGIS Raster Datasets
Help:
Has Raster Attribute Table: false
Edit Fields Info: null
Ownership Based AccessControl For Rasters: null
Child Resources:
Info
Histograms
Statistics
Key Properties
Legend
Raster Function Infos
Supported Operations:
Export Image
Identify
Measure
Compute Histograms
Compute Statistics Histograms
Get Samples
Compute Class Statistics
Query Boundary
Compute Pixel Location
Compute Angles
Validate
Project