View In:
ArcGIS JavaScript
ArcGIS Online Map Viewer
ArcGIS Earth
Service Description: Airphoto2023_7cm
Name: Airphoto2023_7cm
Description:
Single Fused Map Cache: true
Tile Info:
- Height: 256
- Width: 256
- DPI: 96
-
Levels of Detail: 14
- Format: PNG
- Compression Quality: 0.0
- LERC Error: NaN
- Origin: X: 531305.6817383
Y: 4859128.749062
- Spatial Reference: 26917
(26917)
LatestVCSWkid(0)
Storage Info:
- Storage Format: esriMapCacheStorageModeCompactV2
- Packet Size: 128
Extent:
XMin: 534998.9817383003
YMin: 4824999.024062004
XMax: 563000.9817383003
YMax: 4857001.074061994
Spatial Reference: 26917
(26917)
LatestVCSWkid(0)
Initial Extent:
XMin: 534998.9817383003
YMin: 4824999.024062004
XMax: 563000.9817383003
YMax: 4857001.074061994
Spatial Reference: 26917
(26917)
LatestVCSWkid(0)
Full Extent:
XMin: 534998.9817383003
YMin: 4824999.024062004
XMax: 563000.9817383003
YMax: 4857001.074061994
Spatial Reference: 26917
(26917)
LatestVCSWkid(0)
Pixel Size X: 0.075
Pixel Size Y: 0.07499999999997774
Band Count: 3
Pixel Type: U8
RasterFunction Infos: {"rasterFunctionInfos": [{
"name": "None",
"description": "",
"help": ""
}]}
Mensuration Capabilities: Basic
Inspection Capabilities:
Has Histograms: true
Has Colormap: false
Has Multi Dimensions : false
Rendering Rule:
Min Scale: 0
Max Scale: 0
Min LOD: 0
Max LOD: 13
Resampling: false
Copyright Text:
Service Data Type: esriImageServiceDataTypeRGB
Min Values: 0, 0, 0
Max Values: 255, 255, 255
Mean Values: 102.07572342237869, 104.15142044289827, 95.01262267168597
Standard Deviation Values: 37.614967565862905, 33.95476101022875, 30.468096252460946
Object ID Field:
Fields:
None
Default Mosaic Method: Center
Allowed Mosaic Methods:
SortField:
SortValue: null
Mosaic Operator: First
Default Compression Quality: 75
Default Resampling Method: Bilinear
Max Record Count: null
Max Image Height: 4100
Max Image Width: 15000
Max Download Image Count: null
Max Mosaic Image Count: null
Allow Raster Function: true
Allow Copy: true
Allow Analysis: true
Allow Compute TiePoints: false
Supports Statistics: false
Supports Advanced Queries: false
Use StandardizedQueries: true
Raster Type Infos:
Name: Raster Dataset
Description: Supports all ArcGIS Raster Datasets
Help:
Has Raster Attribute Table: false
Edit Fields Info: null
Ownership Based AccessControl For Rasters: null
Child Resources:
Info
Histograms
Statistics
Key Properties
Legend
Raster Function Infos
Supported Operations:
Export Image
Identify
Measure
Compute Histograms
Compute Statistics Histograms
Get Samples
Compute Class Statistics
Query Boundary
Compute Pixel Location
Compute Angles
Validate
Project
EstimateExportTilesSize
ExportTiles